BEGIN:VCALENDAR
VERSION:2.0
PRODID:-//Parterre One - ECPv6.15.20//NONSGML v1.0//EN
CALSCALE:GREGORIAN
METHOD:PUBLISH
X-WR-CALNAME:Parterre One
X-ORIGINAL-URL:https://www.parterre-one.ch
X-WR-CALDESC:Veranstaltungen für Parterre One
REFRESH-INTERVAL;VALUE=DURATION:PT1H
X-Robots-Tag:noindex
X-PUBLISHED-TTL:PT1H
BEGIN:VTIMEZONE
TZID:Europe/Zurich
BEGIN:DAYLIGHT
TZOFFSETFROM:+0100
TZOFFSETTO:+0200
TZNAME:CEST
DTSTART:20240331T010000
END:DAYLIGHT
BEGIN:STANDARD
TZOFFSETFROM:+0200
TZOFFSETTO:+0100
TZNAME:CET
DTSTART:20241027T010000
END:STANDARD
BEGIN:DAYLIGHT
TZOFFSETFROM:+0100
TZOFFSETTO:+0200
TZNAME:CEST
DTSTART:20250330T010000
END:DAYLIGHT
BEGIN:STANDARD
TZOFFSETFROM:+0200
TZOFFSETTO:+0100
TZNAME:CET
DTSTART:20251026T010000
END:STANDARD
BEGIN:DAYLIGHT
TZOFFSETFROM:+0100
TZOFFSETTO:+0200
TZNAME:CEST
DTSTART:20260329T010000
END:DAYLIGHT
BEGIN:STANDARD
TZOFFSETFROM:+0200
TZOFFSETTO:+0100
TZNAME:CET
DTSTART:20261025T010000
END:STANDARD
END:VTIMEZONE
BEGIN:VEVENT
DTSTART;TZID=Europe/Zurich:20250830T230000
DTEND;TZID=Europe/Zurich:20250831T040000
DTSTAMP:20260419T200428
CREATED:20250806T090727Z
LAST-MODIFIED:20250812T055945Z
UID:10000042-1756594800-1756612800@www.parterre-one.ch
SUMMARY:OPENING SEASON PARTY  JUKEBOX IS BACK!
DESCRIPTION:Die Wartezeit ist vorbei – wir starten in eine brandneue Saison! Sei dabei\, wenn JUKEBOX mit einem fulminanten Opening zurückkehrt! \n\n\n\nNeue Saison\, neues Level!Erlebe eine Nacht voller Energie\, Überraschungen und bester Stimmung! \n\n\n\n Kostenlose Pizza für alle!Genau wie du es liebst – solange der Vorrat reicht! \n\n\n\nDeine Musik – dein Abend!Schick deine Lieblingssongs per WhatsApp an unseren DJ und feiere zu deinen persönlichen Hits! \n\n\n\n Geburtstags-Special: Du hast zwischen dem 20. und 30. August Geburtstag? Bring deine Crew mit – Geburtstagskinder erhalten 4 FREE ENTRIES!  \n\n\n\nOpening Surprise Special!Behalte deine Garderobennummer – wir verlosen während der Nacht Drinks & Goodies! \n\n\n\nSamstag\, 30.08.2025Start: 23:00 Uhr – Open EndEintritt: Würfle deinen Preis – dein Glück entscheidet! Parterre One \n\n\n\nHol deine Freunde\, sichere dir deinen Spot und feiere den Start in die neue Saison wie nie zuvor!
URL:https://www.parterre-one.ch/event/opening-season-party-jukebox-is-back/
LOCATION:Parterre One\, Klybeckstrasse 1b\, Basel-Stadt\, Basel-Stadt\, 4058\, Switzerland
ATTACH;FMTTYPE=image/jpeg:https://www.parterre-one.ch/wp-content/uploads/2025/08/Jukebox-home-page-1-new.jpg
GEO:47.563839;7.591517
X-APPLE-STRUCTURED-LOCATION;VALUE=URI;X-ADDRESS=Parterre One Klybeckstrasse 1b Basel-Stadt Basel-Stadt 4058 Switzerland;X-APPLE-RADIUS=500;X-TITLE=Klybeckstrasse 1b:geo:7.591517,47.563839
END:VEVENT
END:VCALENDAR