BEGIN:VCALENDAR
VERSION:2.0
PRODID:-//Parterre One - ECPv6.15.20//NONSGML v1.0//EN
CALSCALE:GREGORIAN
METHOD:PUBLISH
X-WR-CALNAME:Parterre One
X-ORIGINAL-URL:https://www.parterre-one.ch
X-WR-CALDESC:Veranstaltungen für Parterre One
REFRESH-INTERVAL;VALUE=DURATION:PT1H
X-Robots-Tag:noindex
X-PUBLISHED-TTL:PT1H
BEGIN:VTIMEZONE
TZID:Europe/Zurich
BEGIN:DAYLIGHT
TZOFFSETFROM:+0100
TZOFFSETTO:+0200
TZNAME:CEST
DTSTART:20240331T010000
END:DAYLIGHT
BEGIN:STANDARD
TZOFFSETFROM:+0200
TZOFFSETTO:+0100
TZNAME:CET
DTSTART:20241027T010000
END:STANDARD
BEGIN:DAYLIGHT
TZOFFSETFROM:+0100
TZOFFSETTO:+0200
TZNAME:CEST
DTSTART:20250330T010000
END:DAYLIGHT
BEGIN:STANDARD
TZOFFSETFROM:+0200
TZOFFSETTO:+0100
TZNAME:CET
DTSTART:20251026T010000
END:STANDARD
BEGIN:DAYLIGHT
TZOFFSETFROM:+0100
TZOFFSETTO:+0200
TZNAME:CEST
DTSTART:20260329T010000
END:DAYLIGHT
BEGIN:STANDARD
TZOFFSETFROM:+0200
TZOFFSETTO:+0100
TZNAME:CET
DTSTART:20261025T010000
END:STANDARD
END:VTIMEZONE
BEGIN:VEVENT
DTSTART;TZID=Europe/Zurich:20250912T220000
DTEND;TZID=Europe/Zurich:20250912T220000
DTSTAMP:20260425T161557
CREATED:20250702T145910Z
LAST-MODIFIED:20250811T142129Z
UID:10000033-1757714400-1757714400@www.parterre-one.ch
SUMMARY:Planet 90S
DESCRIPTION:Planet 90s / Partylabel für 90er Musik aus allen relevanten Genres dieses Jahrzehnts. Zurzeit jeden Monat im Parterre One Basel. \n\n\n\n90s Baby One More Time! \n\n\n\nPlanet 90s startet in die vierte Saison im Parterre One.  \n\n\n\nWie immer mit den besten 90s Songs\, abwechslungsreich\, zum Abtanzen und Mitsingen. Alle 90s Hits\, aber auch mal unbekanntere 90er Lieder\, die in die Beine gehen. \n\n\n\nThe 90s Groove Is In The Heart! \n\n\n\nZum Auftakt mit Resident DJ Das Mandat und mit zwei Gast DJs. \n\n\n\nDJ Kater (AG) hat seine Premiere bei Planet 90s. Zusammen hatten die Beiden schon gemeinsame Auftritte. Bei Back4Good – The 90s! in der Jägerhalle/Heimat vor ca. 10 Jahren. Oder im Route 66 2.0/Barock vor ca 6 Jahren. Ausserdem war er langjähriger VJ bei unserer ehemaligen Partyreihe „Agathe Bauer“ im KiFF Aarau. \n\n\n\nDJ Organic K. war Anfangs 2024 schon einmal bei Planet 90s. Er organisiert Partys u.a. im Barakuba. Wir freuen uns\, ihn wieder bei uns zu haben und sind gespannt auf seine 90s Sets. \n\n\n\n90s Gonna Make You Sweat! \n\n\n\nDazu gibt es die Musikvideos der gespielten Lieder auf Grossleinwand. Taucht ein in die Welt von Planet 90s und beamt euch zurück an das Ende des letzten Jahrtausend!
URL:https://www.parterre-one.ch/event/planet-90s/
LOCATION:Parterre One\, Klybeckstrasse 1b\, Basel-Stadt\, Basel-Stadt\, 4058\, Switzerland
CATEGORIES:Party
ATTACH;FMTTYPE=image/webp:https://www.parterre-one.ch/wp-content/uploads/2025/07/Planet90s-Veranstaltung-Bild-1.webp
GEO:47.563839;7.591517
X-APPLE-STRUCTURED-LOCATION;VALUE=URI;X-ADDRESS=Parterre One Klybeckstrasse 1b Basel-Stadt Basel-Stadt 4058 Switzerland;X-APPLE-RADIUS=500;X-TITLE=Klybeckstrasse 1b:geo:7.591517,47.563839
END:VEVENT
END:VCALENDAR