BEGIN:VCALENDAR
VERSION:2.0
PRODID:-//Parterre One - ECPv6.15.20//NONSGML v1.0//EN
CALSCALE:GREGORIAN
METHOD:PUBLISH
X-ORIGINAL-URL:https://www.parterre-one.ch
X-WR-CALDESC:Veranstaltungen für Parterre One
REFRESH-INTERVAL;VALUE=DURATION:PT1H
X-Robots-Tag:noindex
X-PUBLISHED-TTL:PT1H
BEGIN:VTIMEZONE
TZID:Europe/Zurich
BEGIN:DAYLIGHT
TZOFFSETFROM:+0100
TZOFFSETTO:+0200
TZNAME:CEST
DTSTART:20240331T010000
END:DAYLIGHT
BEGIN:STANDARD
TZOFFSETFROM:+0200
TZOFFSETTO:+0100
TZNAME:CET
DTSTART:20241027T010000
END:STANDARD
BEGIN:DAYLIGHT
TZOFFSETFROM:+0100
TZOFFSETTO:+0200
TZNAME:CEST
DTSTART:20250330T010000
END:DAYLIGHT
BEGIN:STANDARD
TZOFFSETFROM:+0200
TZOFFSETTO:+0100
TZNAME:CET
DTSTART:20251026T010000
END:STANDARD
BEGIN:DAYLIGHT
TZOFFSETFROM:+0100
TZOFFSETTO:+0200
TZNAME:CEST
DTSTART:20260329T010000
END:DAYLIGHT
BEGIN:STANDARD
TZOFFSETFROM:+0200
TZOFFSETTO:+0100
TZNAME:CET
DTSTART:20261025T010000
END:STANDARD
END:VTIMEZONE
BEGIN:VEVENT
DTSTART;TZID=Europe/Zurich:20251108T230000
DTEND;TZID=Europe/Zurich:20251108T230000
DTSTAMP:20260425T210120
CREATED:20251008T063934Z
LAST-MODIFIED:20251008T063938Z
UID:10000156-1762642800-1762642800@www.parterre-one.ch
SUMMARY:TRIBE - AFROHOUSE 
DESCRIPTION:Nach der glanzvollen Premiere folgt nun die Fortsetzung – „TRIBE“ geht in die zweite Runde! \n\n\n\nNach dem fulminanten Erfolg der ersten Ausgabe von TRIBE\, der neuen Eventreihe für erlesenen Afro-House und Afro-Tech\, kehrt der pulsierende Stamm des Tanzes zurück – stärker\, tiefer und elektrisierender denn je. \n\n\n\nAm Samstag\, den 8. November\, verwandelt sich das Parterre One erneut in ein vibrierendes Klanguniversum\, in dem treibende Rhythmen\, hypnotische Grooves und sinnliche Melodien aufeinandertreffen. Die zweite Edition von TRIBE lädt dazu ein\, Körper und Geist in Bewegung zu bringen – ein kollektives Ritual aus Klang\, Energie und Ekstase. \n\n\n\nErneut dürfen sich unsere Gäste auf eine Nacht voller musikalischer Intensität und gemeinschaftlicher Euphorie freuen\, wenn Afro-House und Afro-Tech zu einer feurigen Einheit verschmelzen. Die Beats – roh\, organisch und zugleich futuristisch – versprechen eine rauschhafte Erfahrung\, die noch lange nachhallen wird. \n\n\n\nTRIBE – wo Rhythmus zur Sprache wird und Tanz zur Religion. \n\n\n\n🍀 \n\n\n\nDJ ANGELDJ JUICEPPE
URL:https://www.parterre-one.ch/event/tribe-afrohouse/
LOCATION:Parterre One\, Klybeckstrasse 1b\, Basel-Stadt\, Basel-Stadt\, 4058\, Switzerland
ATTACH;FMTTYPE=image/jpeg:https://www.parterre-one.ch/wp-content/uploads/2025/10/1000093465-e1760513364637.jpg
GEO:47.563839;7.591517
X-APPLE-STRUCTURED-LOCATION;VALUE=URI;X-ADDRESS=Parterre One Klybeckstrasse 1b Basel-Stadt Basel-Stadt 4058 Switzerland;X-APPLE-RADIUS=500;X-TITLE=Klybeckstrasse 1b:geo:7.591517,47.563839
END:VEVENT
END:VCALENDAR