BEGIN:VCALENDAR
VERSION:2.0
PRODID:-//Parterre One - ECPv6.15.20//NONSGML v1.0//EN
CALSCALE:GREGORIAN
METHOD:PUBLISH
X-ORIGINAL-URL:https://www.parterre-one.ch
X-WR-CALDESC:Veranstaltungen für Parterre One
REFRESH-INTERVAL;VALUE=DURATION:PT1H
X-Robots-Tag:noindex
X-PUBLISHED-TTL:PT1H
BEGIN:VTIMEZONE
TZID:Europe/Zurich
BEGIN:DAYLIGHT
TZOFFSETFROM:+0100
TZOFFSETTO:+0200
TZNAME:CEST
DTSTART:20240331T010000
END:DAYLIGHT
BEGIN:STANDARD
TZOFFSETFROM:+0200
TZOFFSETTO:+0100
TZNAME:CET
DTSTART:20241027T010000
END:STANDARD
BEGIN:DAYLIGHT
TZOFFSETFROM:+0100
TZOFFSETTO:+0200
TZNAME:CEST
DTSTART:20250330T010000
END:DAYLIGHT
BEGIN:STANDARD
TZOFFSETFROM:+0200
TZOFFSETTO:+0100
TZNAME:CET
DTSTART:20251026T010000
END:STANDARD
BEGIN:DAYLIGHT
TZOFFSETFROM:+0100
TZOFFSETTO:+0200
TZNAME:CEST
DTSTART:20260329T010000
END:DAYLIGHT
BEGIN:STANDARD
TZOFFSETFROM:+0200
TZOFFSETTO:+0100
TZNAME:CET
DTSTART:20261025T010000
END:STANDARD
END:VTIMEZONE
BEGIN:VEVENT
DTSTART;TZID=Europe/Zurich:20251128T210000
DTEND;TZID=Europe/Zurich:20251128T210000
DTSTAMP:20260425T160350
CREATED:20251023T094004Z
LAST-MODIFIED:20251023T094008Z
UID:10000164-1764363600-1764363600@www.parterre-one.ch
SUMMARY:OLDIES BUT GOLDIES
DESCRIPTION:Mach dich bereit für eine Zeitreise durch die größten Hits von 1970 bis 2000!Erlebe eine Nacht voller unvergesslicher Klassiker\, legendärer Melodien und der zeitlosen Energie\, die diese Musikgeneration geprägt hat. \n\n\n\nAn den Decks: einer der legendärsten DJs der Basler Szene – DJ Nick Schulz\, der die goldenen Zeiten von Disco\, Pop\, Rock und den frühen elektronischen Beats wieder aufleben lässt. \n\n\n\n💿 Von den Klassikern der 70er bis zu den Hymnen der 2000er – eine Nacht zum Mitsingen\, Tanzen und Feiern der Musik\, die niemals alt wird. \n\n\n\nOldies but Goldies – weil manche Hits einfach für immer bleiben. 🎶
URL:https://www.parterre-one.ch/event/oldies-but-goldies/
LOCATION:Parterre One\, Klybeckstrasse 1b\, Basel-Stadt\, Basel-Stadt\, 4058\, Switzerland
ATTACH;FMTTYPE=image/jpeg:https://www.parterre-one.ch/wp-content/uploads/2025/10/OLDIES-1-preview.jpg
GEO:47.563839;7.591517
X-APPLE-STRUCTURED-LOCATION;VALUE=URI;X-ADDRESS=Parterre One Klybeckstrasse 1b Basel-Stadt Basel-Stadt 4058 Switzerland;X-APPLE-RADIUS=500;X-TITLE=Klybeckstrasse 1b:geo:7.591517,47.563839
END:VEVENT
END:VCALENDAR