BEGIN:VCALENDAR
VERSION:2.0
PRODID:-//Parterre One - ECPv6.15.20//NONSGML v1.0//EN
CALSCALE:GREGORIAN
METHOD:PUBLISH
X-WR-CALNAME:Parterre One
X-ORIGINAL-URL:https://www.parterre-one.ch
X-WR-CALDESC:Veranstaltungen für Parterre One
REFRESH-INTERVAL;VALUE=DURATION:PT1H
X-Robots-Tag:noindex
X-PUBLISHED-TTL:PT1H
BEGIN:VTIMEZONE
TZID:Europe/Zurich
BEGIN:DAYLIGHT
TZOFFSETFROM:+0100
TZOFFSETTO:+0200
TZNAME:CEST
DTSTART:20240331T010000
END:DAYLIGHT
BEGIN:STANDARD
TZOFFSETFROM:+0200
TZOFFSETTO:+0100
TZNAME:CET
DTSTART:20241027T010000
END:STANDARD
BEGIN:DAYLIGHT
TZOFFSETFROM:+0100
TZOFFSETTO:+0200
TZNAME:CEST
DTSTART:20250330T010000
END:DAYLIGHT
BEGIN:STANDARD
TZOFFSETFROM:+0200
TZOFFSETTO:+0100
TZNAME:CET
DTSTART:20251026T010000
END:STANDARD
BEGIN:DAYLIGHT
TZOFFSETFROM:+0100
TZOFFSETTO:+0200
TZNAME:CEST
DTSTART:20260329T010000
END:DAYLIGHT
BEGIN:STANDARD
TZOFFSETFROM:+0200
TZOFFSETTO:+0100
TZNAME:CET
DTSTART:20261025T010000
END:STANDARD
END:VTIMEZONE
BEGIN:VEVENT
DTSTART;TZID=Europe/Zurich:20251206T220000
DTEND;TZID=Europe/Zurich:20251206T220000
DTSTAMP:20260425T210027
CREATED:20251030T140419Z
LAST-MODIFIED:20251030T140642Z
UID:10000165-1765058400-1765058400@www.parterre-one.ch
SUMMARY:Friends of Trance
DESCRIPTION:Trance Party im Club Parterre One in Basel (Kasernen Areal). \n\n\n\nAuch bei der 13 Ausgabe der Friends of Trance erwartet euch ein hammer Lineup mit einer Auswahl an nationalen Trance DJs. \n\n\n\n♦♦♦♦♦♦♦♦♦♦♦♦♦♦♦♦♦♦♦♦♦♦♦♦♦♦ \n\n\n\n♪♪♪ Lineup ♪♪♪ \n\n\n\n🎧 Centaury (BE)mehr Infos & Mixes: folgt \n\n\n\n🎧 X-Plosiv (BS)mehr Infos & Mixes: folgt \n\n\n\n🎧 Euphoria (BS)mehr Infos & Mixes: folgt \n\n\n\n🎧 Patrick Mathez (AG)mehr Infos & Mixes: folgt \n\n\n\n🎧 X-Tromic (BE)mehr Infos & Mixes: folgt \n\n\n\n♦♦♦♦♦♦♦♦♦♦♦♦♦♦♦♦♦♦♦♦♦♦♦♦♦♦ \n\n\n\n★★★ Was wird euch erwarten ★★★ \n\n\n\n★ Vor allem nur besten Remember Trance & Hardtrance\, Rave und New Trance von den frühen 90er bis heute. \n\n\n\n★ Lange DJ Sets von über einer Stunde. So könnt ihr eure lieblings DJs schön lange geniessen. Das gibt es leider selten genug. \n\n\n\n★ Eine super Party Location mit dem Club Parterre One in Basel. Leicht zu erreichen mit den ÖV (Station Kaserne) oder dem Auto (Parkhaus Claramatte) \n\n\n\nDas Parterre One bietet neben dem Dancefloor eine Galerie mit Sicht auf DJ und Tanzfläche\, 2 Bars\, grosse Raucher Lounge und eine outdoor Area. \n\n\n\n★ Spezial Licht und Light-Jockey \n\n\n\n★ Video Animation \n\n\n\n──────────────────────────────────────────── \n\n\n\n‼  ladet all eure Freunde zum Event ein\, teilt\, liked und kommentiert unsere Posts und erzählt es weiter und kommt mit euren Freunden und feiert mit uns erneut eine legendäre Party. \n\n\n\nWir freuen uns auf euch. \n\n\n\nBesten Dank im Voraus ‼ \n\n\n\n──────────────────────────────────────────── \n\n\n\n❖ ❖ ❖ Tickets ❖ ❖ ❖ \n\n\n\nVorverkauf: CHF 20.- \n\n\n\nAbendkasse CHF 25.- (wir empfehlen den VVK zu nutzen) \n\n\n\n❖ ❖ ❖ Social Media ❖ ❖ ❖ \n\n\n\nFolge uns auf unseren Social Media Kanälen: \n\n\n\nFacebook: https://www.facebook.com/FriendsOfTrance \n\n\n\nInstagram: https://www.instagram.com/friendsoftrance \n\n\n\n \n\n\n\nEnglish version: \n\n\n\nFriends of Trance \n\n\n\n▬▬▬▬▬▬▬▬ \n\n\n\nTrance Party at Club Parterre One in Basel (Kasernen Area). \n\n\n\n──────────────────────────────────────────── \n\n\n\n‼ Saturday\, December 6\, 2025 – from 10 PM ‼ \n\n\n\n──────────────────────────────────────────── \n\n\n\nThe 13th edition of Friends of Trance brings you once again a massive lineup featuring some of the finest national Trance DJs. \n\n\n\n♦♦♦♦♦♦♦♦♦♦♦♦♦♦♦♦♦♦♦♦♦♦♦♦♦♦ \n\n\n\n♪♪♪ Lineup ♪♪♪ \n\n\n\n🎧 Centaury (BE)More info & mixes: coming soon \n\n\n\n🎧 X-Plosiv (BS)More info & mixes: coming soon \n\n\n\n🎧 Euphoria (BS)More info & mixes: coming soon \n\n\n\n🎧 Patrick Mathez (AG)More info & mixes: coming soon \n\n\n\n🎧 X-Tromic (BE)More info & mixes: coming soon \n\n\n\n♦♦♦♦♦♦♦♦♦♦♦♦♦♦♦♦♦♦♦♦♦♦♦♦♦♦ \n\n\n\n★★★ What to Expect ★★★ \n\n\n\n★ Only the very best of Remember Trance\, Hardtrance\, Rave\, and New Trance from the early 90s up to today. \n\n\n\n★ Extended DJ sets of over one hour – enjoy your favourite DJs for longer! That’s something you don’t get often these days. \n\n\n\n★ A great party venue at Club Parterre One in Basel – easy to reach by public transport (Station Kaserne) or by car (Claramatte parking). \n\n\n\nParterre One features\, besides the main dancefloor\, a gallery with a view over the DJ and dancefloor\, two bars\, a large smoker’s lounge\, and an outdoor area. \n\n\n\n★ Special lighting & live light jockey \n\n\n\n★ Video animation show \n\n\n\n──────────────────────────────────────────── \n\n\n\n‼ Please support us – invite all your friends to the event\, share\, like\, and comment on our posts\, and most importantly\, spread the word! Come along with your friends and celebrate another legendary night of Trance with us. \n\n\n\nWe can’t wait to see you all! \n\n\n\nThank you in advance! \n\n\n\n──────────────────────────────────────────── \n\n\n\n❖ ❖ ❖ Tickets ❖ ❖ ❖ \n\n\n\nPresale: CHF 20.– \n\n\n\nBox office: CHF 25.– (we recommend using presale) \n\n\n\n──────────────────────────────────────────── \n\n\n\n❖ ❖ ❖ Social Media ❖ ❖ ❖ \n\n\n\nFollow us on our channels: \n\n\n\nFacebook:https://www.facebook.com/FriendsOfTrance \n\n\n\nInstagram:https://www.instagram.com/friendsoftrance/
URL:https://www.parterre-one.ch/event/friends-of-trance-3/
LOCATION:Parterre One\, Klybeckstrasse 1b\, Basel-Stadt\, Basel-Stadt\, 4058\, Switzerland
ATTACH;FMTTYPE=image/jpeg:https://www.parterre-one.ch/wp-content/uploads/2025/10/1000106235.jpg
GEO:47.563839;7.591517
X-APPLE-STRUCTURED-LOCATION;VALUE=URI;X-ADDRESS=Parterre One Klybeckstrasse 1b Basel-Stadt Basel-Stadt 4058 Switzerland;X-APPLE-RADIUS=500;X-TITLE=Klybeckstrasse 1b:geo:7.591517,47.563839
END:VEVENT
END:VCALENDAR