BEGIN:VCALENDAR
VERSION:2.0
PRODID:-//Parterre One - ECPv6.15.20//NONSGML v1.0//EN
CALSCALE:GREGORIAN
METHOD:PUBLISH
X-ORIGINAL-URL:https://www.parterre-one.ch
X-WR-CALDESC:Veranstaltungen für Parterre One
REFRESH-INTERVAL;VALUE=DURATION:PT1H
X-Robots-Tag:noindex
X-PUBLISHED-TTL:PT1H
BEGIN:VTIMEZONE
TZID:Europe/Zurich
BEGIN:DAYLIGHT
TZOFFSETFROM:+0100
TZOFFSETTO:+0200
TZNAME:CEST
DTSTART:20240331T010000
END:DAYLIGHT
BEGIN:STANDARD
TZOFFSETFROM:+0200
TZOFFSETTO:+0100
TZNAME:CET
DTSTART:20241027T010000
END:STANDARD
BEGIN:DAYLIGHT
TZOFFSETFROM:+0100
TZOFFSETTO:+0200
TZNAME:CEST
DTSTART:20250330T010000
END:DAYLIGHT
BEGIN:STANDARD
TZOFFSETFROM:+0200
TZOFFSETTO:+0100
TZNAME:CET
DTSTART:20251026T010000
END:STANDARD
BEGIN:DAYLIGHT
TZOFFSETFROM:+0100
TZOFFSETTO:+0200
TZNAME:CEST
DTSTART:20260329T010000
END:DAYLIGHT
BEGIN:STANDARD
TZOFFSETFROM:+0200
TZOFFSETTO:+0100
TZNAME:CET
DTSTART:20261025T010000
END:STANDARD
END:VTIMEZONE
BEGIN:VEVENT
DTSTART;TZID=Europe/Zurich:20251212T220000
DTEND;TZID=Europe/Zurich:20251212T220000
DTSTAMP:20260426T000517
CREATED:20250709T124459Z
LAST-MODIFIED:20251120T102433Z
UID:10000038-1765576800-1765576800@www.parterre-one.ch
SUMMARY:Planet 90S
DESCRIPTION:90s Baby One More Time! \n\n\n\nIm Dezember verstärkt sich Das Mandat mit zwei starken Frauen. DJ Mo & Illumina\, bekannt eigentlich als unsere VJs\, heizen die Partycrowd richtig ein.  \n\n\n\nJahrelang sind sie treue Helferinnen unserer Formel Events Partys. Nicht nur als VJs\, sondern auch an allen anderen Ecken\, wo Hilfe benötigt wird.  \n\n\n\nHöchste Zeit also\, dass sie endlich auch einmal die Musikauswahl treffen dürfen und wir freuen uns sehr auf ihren ersten DJ Auftritt überhaupt. \n\n\n\nSmells Like 90s Spirit \n\n\n\nTaucht ein in die Welt von Planet 90s. Lasst euch in Erinnerungen schwelgen. Tanzt ab zu den Beats der 90er oder singt mit zu den grössten 90er Hits. \n\n\n\n90s – Rhythm Is A Dancer! \n\n\n\nUnd für das visuelle Erlebnis präsentieren wir die Musikvideos der gespielten Lieder auf Grossleinwand. \n\n\n\n90s – No Limit! \n\n\n\nTake Off: 21 Uhr \n\n\n\nEntry: CHF 15.– \n\n\n\nCome As You Are! \n\n\n\nPlanet 90s – 90s Only \n\n\n\nLineup: \n\n\n\nDas Mandat feat. DJ Mo & Illumina \n\n\n\n90s only!
URL:https://www.parterre-one.ch/event/planet-90s-2/
LOCATION:Parterre One\, Klybeckstrasse 1b\, Basel-Stadt\, Basel-Stadt\, 4058\, Switzerland
CATEGORIES:Party
ATTACH;FMTTYPE=image/webp:https://www.parterre-one.ch/wp-content/uploads/2025/07/Planet90s-Veranstaltung-Bild-1.webp
GEO:47.563839;7.591517
X-APPLE-STRUCTURED-LOCATION;VALUE=URI;X-ADDRESS=Parterre One Klybeckstrasse 1b Basel-Stadt Basel-Stadt 4058 Switzerland;X-APPLE-RADIUS=500;X-TITLE=Klybeckstrasse 1b:geo:7.591517,47.563839
END:VEVENT
END:VCALENDAR