BEGIN:VCALENDAR
VERSION:2.0
PRODID:-//Parterre One - ECPv6.15.20//NONSGML v1.0//EN
CALSCALE:GREGORIAN
METHOD:PUBLISH
X-WR-CALNAME:Parterre One
X-ORIGINAL-URL:https://www.parterre-one.ch
X-WR-CALDESC:Veranstaltungen für Parterre One
REFRESH-INTERVAL;VALUE=DURATION:PT1H
X-Robots-Tag:noindex
X-PUBLISHED-TTL:PT1H
BEGIN:VTIMEZONE
TZID:Europe/Zurich
BEGIN:DAYLIGHT
TZOFFSETFROM:+0100
TZOFFSETTO:+0200
TZNAME:CEST
DTSTART:20240331T010000
END:DAYLIGHT
BEGIN:STANDARD
TZOFFSETFROM:+0200
TZOFFSETTO:+0100
TZNAME:CET
DTSTART:20241027T010000
END:STANDARD
BEGIN:DAYLIGHT
TZOFFSETFROM:+0100
TZOFFSETTO:+0200
TZNAME:CEST
DTSTART:20250330T010000
END:DAYLIGHT
BEGIN:STANDARD
TZOFFSETFROM:+0200
TZOFFSETTO:+0100
TZNAME:CET
DTSTART:20251026T010000
END:STANDARD
BEGIN:DAYLIGHT
TZOFFSETFROM:+0100
TZOFFSETTO:+0200
TZNAME:CEST
DTSTART:20260329T010000
END:DAYLIGHT
BEGIN:STANDARD
TZOFFSETFROM:+0200
TZOFFSETTO:+0100
TZNAME:CET
DTSTART:20261025T010000
END:STANDARD
END:VTIMEZONE
BEGIN:VEVENT
DTSTART;TZID=Europe/Zurich:20250602T230000
DTEND;TZID=Europe/Zurich:20250602T230000
DTSTAMP:20260419T232252
CREATED:20250602T112739Z
LAST-MODIFIED:20250602T115706Z
UID:10000029-1748905200-1748905200@www.parterre-one.ch
SUMMARY:PsychOut – SEMESTEREND-Party!
DESCRIPTION:PsychOut – Die Psychologie SEMESTEREND-Party! \n\n\n\nAm Freitag\, den 13. Juni 2025\, ab 23:00 Uhr wird gefeiert\, als gäbe es kein nächstes Semester!Schnapp dir deine Kommiliton:innen\, lass den Lernstress hinter dir und tanz dich frei bei der legendären PsychOut-Party! \n\n\n\nEarly Bird bis 13.06:CHF 13.-
URL:https://www.parterre-one.ch/event/psychout-die-psychologie-semesterend-party/
LOCATION:Parterre One\, Klybeckstrasse 1b\, Basel-Stadt\, Basel-Stadt\, 4058\, Switzerland
CATEGORIES:Party
ATTACH;FMTTYPE=image/webp:https://www.parterre-one.ch/wp-content/uploads/2025/06/Psych.webp
GEO:47.563839;7.591517
X-APPLE-STRUCTURED-LOCATION;VALUE=URI;X-ADDRESS=Parterre One Klybeckstrasse 1b Basel-Stadt Basel-Stadt 4058 Switzerland;X-APPLE-RADIUS=500;X-TITLE=Klybeckstrasse 1b:geo:7.591517,47.563839
END:VEVENT
END:VCALENDAR