BEGIN:VCALENDAR
VERSION:2.0
PRODID:-//Parterre One - ECPv6.15.20//NONSGML v1.0//EN
CALSCALE:GREGORIAN
METHOD:PUBLISH
X-WR-CALNAME:Parterre One
X-ORIGINAL-URL:https://www.parterre-one.ch
X-WR-CALDESC:Veranstaltungen für Parterre One
REFRESH-INTERVAL;VALUE=DURATION:PT1H
X-Robots-Tag:noindex
X-PUBLISHED-TTL:PT1H
BEGIN:VTIMEZONE
TZID:Europe/Zurich
BEGIN:DAYLIGHT
TZOFFSETFROM:+0100
TZOFFSETTO:+0200
TZNAME:CEST
DTSTART:20250330T010000
END:DAYLIGHT
BEGIN:STANDARD
TZOFFSETFROM:+0200
TZOFFSETTO:+0100
TZNAME:CET
DTSTART:20251026T010000
END:STANDARD
BEGIN:DAYLIGHT
TZOFFSETFROM:+0100
TZOFFSETTO:+0200
TZNAME:CEST
DTSTART:20260329T010000
END:DAYLIGHT
BEGIN:STANDARD
TZOFFSETFROM:+0200
TZOFFSETTO:+0100
TZNAME:CET
DTSTART:20261025T010000
END:STANDARD
BEGIN:DAYLIGHT
TZOFFSETFROM:+0100
TZOFFSETTO:+0200
TZNAME:CEST
DTSTART:20270328T010000
END:DAYLIGHT
BEGIN:STANDARD
TZOFFSETFROM:+0200
TZOFFSETTO:+0100
TZNAME:CET
DTSTART:20271031T010000
END:STANDARD
END:VTIMEZONE
BEGIN:VEVENT
DTSTART;TZID=Europe/Zurich:20260430T220000
DTEND;TZID=Europe/Zurich:20260430T220000
DTSTAMP:20260425T172551
CREATED:20260410T073453Z
LAST-MODIFIED:20260415T134851Z
UID:10000226-1777586400-1777586400@www.parterre-one.ch
SUMMARY:JUKEBOX PARTY – DONNERSTAG
DESCRIPTION:Der perfekte Start ins lange Wochenende 🔥 \n\n\n\nWir feiern gemeinsam den Abend vor dem 1. Mai – kein Stress am nächsten Tag\, nur gute Vibes\, bekannte Hits und volle Energie. \n\n\n\nWir starten in den Mai und kommen dem Sommer immer näher ☀️ \n\n\n\nJUKEBOX bedeutet: \n\n\n\nIhr bestimmt die Musik. \n\n\n\nDie besten Songs\, die jeder kennt – von Classics bis aktuellen Hits. \n\n\n\n🎶 Open Format / Hits / Party Classics \n\n\n\n🎤 Mitsingen\, tanzen\, feiern \n\n\n\n🎲 Eintritt mit Würfeln \n\n\n\nDu würfelst deinen Eintrittspreis selbst – von günstig bis unlucky 😄 \n\n\n\n🎂 Birthday Special (24.04 – 01.05) \n\n\n\nFeierst du deinen Geburtstag in dieser Woche? \n\n\n\nWir bieten dir freien Eintritt für dich + 4 Personen\, zusätzlich spezielle Angebote. \n\n\n\nFeier mit uns 🎉 \n\n\n\n📍 Location: Parterre One \n\n\n\n🕒 Start: ab 22:00 Uhr \n\n\n\nMach dich bereit für eine Nacht mit maximaler Stimmung – \n\n\n\nNo rules\, just hits.
URL:https://www.parterre-one.ch/event/jukebox-party-donnerstag/
LOCATION:Parterre One\, Klybeckstrasse 1b\, Basel-Stadt\, Basel-Stadt\, 4058\, Switzerland
ATTACH;FMTTYPE=image/jpeg:https://www.parterre-one.ch/wp-content/uploads/2026/04/Jukebox-A4-1-e1776260905657.jpg
GEO:47.563839;7.591517
X-APPLE-STRUCTURED-LOCATION;VALUE=URI;X-ADDRESS=Parterre One Klybeckstrasse 1b Basel-Stadt Basel-Stadt 4058 Switzerland;X-APPLE-RADIUS=500;X-TITLE=Klybeckstrasse 1b:geo:7.591517,47.563839
END:VEVENT
BEGIN:VEVENT
DTSTART;TZID=Europe/Zurich:20260501T220000
DTEND;TZID=Europe/Zurich:20260502T040000
DTSTAMP:20260425T172551
CREATED:20260312T074330Z
LAST-MODIFIED:20260424T113343Z
UID:10000218-1777672800-1777694400@www.parterre-one.ch
SUMMARY:Tanzfieber? Fiebertanz!
DESCRIPTION:Wir erwecken die Eventreihe\, die 1996 bis 2011 in der Schweiz und den Nachbarländern eine Institution war\, für eine Nacht wieder zum Leben! \n\n\n\nEs erwartet Euch ein abwechslungsreicher und extrem tanzbarer Mix aus Electro\, Indie & Wave-Klassikern der 80er\, 90er und 2000er. Ein Electroclash-Revival wird dabei nicht fehlen. \n\n\n\nZu unserer Reunion laden wir Euch gratis ein! Weitere Infos findet Ihr unter fiebertanz.com \n\n\n\nStyles: Best of Electro\, Indie\, Wave from the 80s\, 90s & 2000s \n\n\n\nDJs: FBRTNZ\, Akay\, John Eastwood \n\n\n\n \n\n\n\n \n\n\n\nEnglish version: \n\n\n\nTanzfieber? Fiebertanz! \n\n\n\nFor one night\, we are bringing the event series back to life that rocked Switzerland and neighboring countries from 1996 to 2011! \n\n\n\nYou can expect an eclectic and extremely danceable mix of electro\, indie\, and wave classics from the 80s\, 90s\, and 2000s. An electroclash revival will also be part of the program. \n\n\n\nWe invite you to our reunion free of charge! \n\n\n\nFor more information\, visit fiebertanz.com. \n\n\n\nStyles: Best of Electro\, Indie\, Wave from the 80s\, 90s\, and 2000s \n\n\n\nDate: Friday\, May 1st\, 2026 \n\n\n\nLocation: Parterre One\, Basel\, Switzerland  \n\n\n\nDJs: FBRTNZ\, Akay\, John Eastwood \n\n\n\nFree admission
URL:https://www.parterre-one.ch/event/tanzfieber-fiebertanz/
LOCATION:Parterre One\, Klybeckstrasse 1b\, Basel-Stadt\, Basel-Stadt\, 4058\, Switzerland
ATTACH;FMTTYPE=image/jpeg:https://www.parterre-one.ch/wp-content/uploads/2026/03/1000168591-e1777030337704.jpg
GEO:47.563839;7.591517
X-APPLE-STRUCTURED-LOCATION;VALUE=URI;X-ADDRESS=Parterre One Klybeckstrasse 1b Basel-Stadt Basel-Stadt 4058 Switzerland;X-APPLE-RADIUS=500;X-TITLE=Klybeckstrasse 1b:geo:7.591517,47.563839
END:VEVENT
BEGIN:VEVENT
DTSTART;TZID=Europe/Zurich:20260508T220000
DTEND;TZID=Europe/Zurich:20260508T220000
DTSTAMP:20260425T172551
CREATED:20251111T150449Z
LAST-MODIFIED:20260211T102053Z
UID:10000179-1778277600-1778277600@www.parterre-one.ch
SUMMARY:Planet 90s
DESCRIPTION:90s – I Want It That Way! \n\n\n\nEuch erwartet ein abwechslungsreichen Mix durch die Hits der 90er Jahre. Quer durch die erfolgreichen Musikgenres dieses Jahrzehnts. Auch mit 90s Songs\, die nicht in den Charts waren oder auf keiner Bravo Hits zu finden sind. \n\n\n\n90s Hooray! \n\n\n\nDazu bekommt ihr auch die Videoclips der gespielten Lieder auf Grossleinwand. Fühlt euch wie in den 90er\, taucht ein in die Welt von Planet 90s. \n\n\n\nMore info coming soon
URL:https://www.parterre-one.ch/event/planet-90s-9/
LOCATION:Parterre One\, Klybeckstrasse 1b\, Basel-Stadt\, Basel-Stadt\, 4058\, Switzerland
ATTACH;FMTTYPE=image/jpeg:https://www.parterre-one.ch/wp-content/uploads/2025/11/5-1-e1762873474845.jpg
GEO:47.563839;7.591517
X-APPLE-STRUCTURED-LOCATION;VALUE=URI;X-ADDRESS=Parterre One Klybeckstrasse 1b Basel-Stadt Basel-Stadt 4058 Switzerland;X-APPLE-RADIUS=500;X-TITLE=Klybeckstrasse 1b:geo:7.591517,47.563839
END:VEVENT
BEGIN:VEVENT
DTSTART;TZID=Europe/Zurich:20260509T000000
DTEND;TZID=Europe/Zurich:20260509T235959
DTSTAMP:20260425T172551
CREATED:20260318T094840Z
LAST-MODIFIED:20260318T094843Z
UID:10000223-1778284800-1778371199@www.parterre-one.ch
SUMMARY:Private Event
DESCRIPTION:Das ist leider nicht euer Privatevent\, aber ihr könnt gerne einen bei uns planen! Anfragen nehmen wir jederzeit unter kultur@parterre.net oder +41 61 695 89 98 entgegen. Wir freuen uns auf euch!
URL:https://www.parterre-one.ch/event/private-event-6/
LOCATION:Parterre One\, Klybeckstrasse 1b\, Basel-Stadt\, Basel-Stadt\, 4058\, Switzerland
CATEGORIES:Private
ATTACH;FMTTYPE=image/jpeg:https://www.parterre-one.ch/wp-content/uploads/2026/03/private-event-with-logo.jpg
GEO:47.563839;7.591517
X-APPLE-STRUCTURED-LOCATION;VALUE=URI;X-ADDRESS=Parterre One Klybeckstrasse 1b Basel-Stadt Basel-Stadt 4058 Switzerland;X-APPLE-RADIUS=500;X-TITLE=Klybeckstrasse 1b:geo:7.591517,47.563839
END:VEVENT
BEGIN:VEVENT
DTSTART;TZID=Europe/Zurich:20260515T220000
DTEND;TZID=Europe/Zurich:20260515T220000
DTSTAMP:20260425T172551
CREATED:20260422T113035Z
LAST-MODIFIED:20260422T113040Z
UID:10000228-1778882400-1778882400@www.parterre-one.ch
SUMMARY:PURE – House Classics 1995-2010
DESCRIPTION:15. Mai ab 22.00Uhr – Get your free invitation \n\n\n\nLade jetzt deine kostenlose Einladung herunter. \n\n\n\nPURE lädt dich zu einer neuen unvergesslichen Nacht voller echter House Classics ein.Unsere musikalische Reise führt dich durch die goldene Ära von 1995 bis 2010 – die Zeit\, welche die Clubszene und House Music geprägt hat. \n\n\n\nFreue dich auf treibende Grooves\, warme Piano-Riffs\, emotionale Vocals und energiegeladene Beats\, die Erinnerungen wecken und die Tanzfläche bis zum letzten Track beleben. Von soulful Vocal House über funky Basslines bis zu hypnotischen Club Sounds. \n\n\n\nEine Nacht voller positiver Vibes\, echtem Clubfeeling und Musik\, die Generationen verbindet. \n\n\n\nFreitag\, 15. Mai ab 22.00Uhr \n\n\n\nDJs:DJ Joseph M.Frank VespariFabio TamborriniAston Martinez \n\n\n\n✨ Pure Energy. Pure Memories. Pure House. 🎟 Lade jetzt deine kostenlose Einladung herunter.
URL:https://www.parterre-one.ch/event/pure-house-classics-1995-2010/
LOCATION:Parterre One\, Klybeckstrasse 1b\, Basel-Stadt\, Basel-Stadt\, 4058\, Switzerland
ATTACH;FMTTYPE=image/jpeg:https://www.parterre-one.ch/wp-content/uploads/2026/04/Pure-House-Classics-15-05-26-e1776857251951.jpg
GEO:47.563839;7.591517
X-APPLE-STRUCTURED-LOCATION;VALUE=URI;X-ADDRESS=Parterre One Klybeckstrasse 1b Basel-Stadt Basel-Stadt 4058 Switzerland;X-APPLE-RADIUS=500;X-TITLE=Klybeckstrasse 1b:geo:7.591517,47.563839
END:VEVENT
BEGIN:VEVENT
DTSTART;TZID=Europe/Zurich:20260612T210000
DTEND;TZID=Europe/Zurich:20260612T210000
DTSTAMP:20260425T172551
CREATED:20251111T150554Z
LAST-MODIFIED:20260209T104143Z
UID:10000181-1781298000-1781298000@www.parterre-one.ch
SUMMARY:Planet 90s
DESCRIPTION:90s – I Want It That Way! \n\n\n\nEuch erwartet ein abwechslungsreichen Mix durch die Hits der 90er Jahre. Quer durch die erfolgreichen Musikgenres dieses Jahrzehnts. Auch mit 90s Songs\, die nicht in den Charts waren oder auf keiner Bravo Hits zu finden sind. \n\n\n\n90s Hooray! \n\n\n\nDazu bekommt ihr auch die Videoclips der gespielten Lieder auf Grossleinwand. Fühlt euch wie in den 90er\, taucht ein in die Welt von Planet 90s. \n\n\n\nMore info coming soon
URL:https://www.parterre-one.ch/event/planet-90s-duplikat/
LOCATION:Parterre One\, Klybeckstrasse 1b\, Basel-Stadt\, Basel-Stadt\, 4058\, Switzerland
ATTACH;FMTTYPE=image/jpeg:https://www.parterre-one.ch/wp-content/uploads/2025/11/6-e1762873619396.jpg
GEO:47.563839;7.591517
X-APPLE-STRUCTURED-LOCATION;VALUE=URI;X-ADDRESS=Parterre One Klybeckstrasse 1b Basel-Stadt Basel-Stadt 4058 Switzerland;X-APPLE-RADIUS=500;X-TITLE=Klybeckstrasse 1b:geo:7.591517,47.563839
END:VEVENT
BEGIN:VEVENT
DTSTART;TZID=Europe/Zurich:20260619T210000
DTEND;TZID=Europe/Zurich:20260619T210000
DTSTAMP:20260425T172551
CREATED:20260212T071851Z
LAST-MODIFIED:20260212T071855Z
UID:10000210-1781902800-1781902800@www.parterre-one.ch
SUMMARY:Pop & Wave - Depeche Mode Special
DESCRIPTION:Formel-Events und The B-Side präsentieren \n\n\n\nPop & Wave – Depeche Mode Special \n\n\n\nErlebe ein Nacht mit den Kultsounds von Depeche Mode. Von den Anfangstagen 1980 bis zum letzten Studio Album 2023. \n\n\n\nDazu gibt es viel synthetische und poppige Klänge. Synthpop Perlen\, New Wave Klassiker und Pop Hits von damals bis heute. \n\n\n\nDie DJs Zen\, Dan-Kenobi und Das Mandat spielen einen Genremix der Extraklasse. \n\n\n\nStart: 21.00h \n\n\n\nAlle Veranstaltungen von Formel-Events findest du hier:www.formel-events.ch
URL:https://www.parterre-one.ch/event/pop-wave-depeche-mode-special/
LOCATION:Parterre One\, Klybeckstrasse 1b\, Basel-Stadt\, Basel-Stadt\, 4058\, Switzerland
ATTACH;FMTTYPE=image/jpeg:https://www.parterre-one.ch/wp-content/uploads/2026/02/04.-19.06.2026-PopWave_Depeche_Special--e1770880520983.jpg
GEO:47.563839;7.591517
X-APPLE-STRUCTURED-LOCATION;VALUE=URI;X-ADDRESS=Parterre One Klybeckstrasse 1b Basel-Stadt Basel-Stadt 4058 Switzerland;X-APPLE-RADIUS=500;X-TITLE=Klybeckstrasse 1b:geo:7.591517,47.563839
END:VEVENT
END:VCALENDAR