BEGIN:VCALENDAR
VERSION:2.0
PRODID:-//Parterre One - ECPv6.15.20//NONSGML v1.0//EN
CALSCALE:GREGORIAN
METHOD:PUBLISH
X-WR-CALNAME:Parterre One
X-ORIGINAL-URL:https://www.parterre-one.ch
X-WR-CALDESC:Veranstaltungen für Parterre One
REFRESH-INTERVAL;VALUE=DURATION:PT1H
X-Robots-Tag:noindex
X-PUBLISHED-TTL:PT1H
BEGIN:VTIMEZONE
TZID:Europe/Zurich
BEGIN:DAYLIGHT
TZOFFSETFROM:+0100
TZOFFSETTO:+0200
TZNAME:CEST
DTSTART:20250330T010000
END:DAYLIGHT
BEGIN:STANDARD
TZOFFSETFROM:+0200
TZOFFSETTO:+0100
TZNAME:CET
DTSTART:20251026T010000
END:STANDARD
BEGIN:DAYLIGHT
TZOFFSETFROM:+0100
TZOFFSETTO:+0200
TZNAME:CEST
DTSTART:20260329T010000
END:DAYLIGHT
BEGIN:STANDARD
TZOFFSETFROM:+0200
TZOFFSETTO:+0100
TZNAME:CET
DTSTART:20261025T010000
END:STANDARD
BEGIN:DAYLIGHT
TZOFFSETFROM:+0100
TZOFFSETTO:+0200
TZNAME:CEST
DTSTART:20270328T010000
END:DAYLIGHT
BEGIN:STANDARD
TZOFFSETFROM:+0200
TZOFFSETTO:+0100
TZNAME:CET
DTSTART:20271031T010000
END:STANDARD
END:VTIMEZONE
BEGIN:VEVENT
DTSTART;TZID=Europe/Zurich:20260501T220000
DTEND;TZID=Europe/Zurich:20260502T040000
DTSTAMP:20260419T141756
CREATED:20260312T074330Z
LAST-MODIFIED:20260312T154847Z
UID:10000218-1777672800-1777694400@www.parterre-one.ch
SUMMARY:Tanzfieber? Fiebertanz!
DESCRIPTION:Wir erwecken die Eventreihe\, die 1996 bis 2011 in der Schweiz und den Nachbarländern eine Institution war\, für eine Nacht wieder zum Leben! \n\n\n\nEs erwartet Euch ein abwechslungsreicher und extrem tanzbarer Mix aus Electro\, Indie & Wave-Klassikern der 80er\, 90er und 2000er. Ein Electroclash-Revival wird dabei nicht fehlen. \n\n\n\nZu unserer Reunion laden wir Euch gratis ein! Weitere Infos findet Ihr unter fiebertanz.com \n\n\n\nStyles: Best of Electro\, Indie\, Wave from the 80s\, 90s & 2000s \n\n\n\nDJs: FBRTNZ\, Akay\, John Eastwood \n\n\n\n \n\n\n\n \n\n\n\nEnglish version: \n\n\n\nTanzfieber? Fiebertanz! \n\n\n\nFor one night\, we are bringing the event series back to life that rocked Switzerland and neighboring countries from 1996 to 2011! \n\n\n\nYou can expect an eclectic and extremely danceable mix of electro\, indie\, and wave classics from the 80s\, 90s\, and 2000s. An electroclash revival will also be part of the program. \n\n\n\nWe invite you to our reunion free of charge! \n\n\n\nFor more information\, visit fiebertanz.com. \n\n\n\nStyles: Best of Electro\, Indie\, Wave from the 80s\, 90s\, and 2000s \n\n\n\nDate: Friday\, May 1st\, 2026 \n\n\n\nLocation: Parterre One\, Basel\, Switzerland  \n\n\n\nDJs: FBRTNZ\, Akay\, John Eastwood \n\n\n\nFree admission
URL:https://www.parterre-one.ch/event/tanzfieber-fiebertanz/
LOCATION:Parterre One\, Klybeckstrasse 1b\, Basel-Stadt\, Basel-Stadt\, 4058\, Switzerland
ATTACH;FMTTYPE=image/jpeg:https://www.parterre-one.ch/wp-content/uploads/2026/03/1000168591.jpg
GEO:47.563839;7.591517
X-APPLE-STRUCTURED-LOCATION;VALUE=URI;X-ADDRESS=Parterre One Klybeckstrasse 1b Basel-Stadt Basel-Stadt 4058 Switzerland;X-APPLE-RADIUS=500;X-TITLE=Klybeckstrasse 1b:geo:7.591517,47.563839
END:VEVENT
BEGIN:VEVENT
DTSTART;TZID=Europe/Zurich:20260508T220000
DTEND;TZID=Europe/Zurich:20260508T220000
DTSTAMP:20260419T141756
CREATED:20251111T150449Z
LAST-MODIFIED:20260211T102053Z
UID:10000179-1778277600-1778277600@www.parterre-one.ch
SUMMARY:Planet 90s
DESCRIPTION:90s – I Want It That Way! \n\n\n\nEuch erwartet ein abwechslungsreichen Mix durch die Hits der 90er Jahre. Quer durch die erfolgreichen Musikgenres dieses Jahrzehnts. Auch mit 90s Songs\, die nicht in den Charts waren oder auf keiner Bravo Hits zu finden sind. \n\n\n\n90s Hooray! \n\n\n\nDazu bekommt ihr auch die Videoclips der gespielten Lieder auf Grossleinwand. Fühlt euch wie in den 90er\, taucht ein in die Welt von Planet 90s. \n\n\n\nMore info coming soon
URL:https://www.parterre-one.ch/event/planet-90s-9/
LOCATION:Parterre One\, Klybeckstrasse 1b\, Basel-Stadt\, Basel-Stadt\, 4058\, Switzerland
ATTACH;FMTTYPE=image/jpeg:https://www.parterre-one.ch/wp-content/uploads/2025/11/5-1-e1762873474845.jpg
GEO:47.563839;7.591517
X-APPLE-STRUCTURED-LOCATION;VALUE=URI;X-ADDRESS=Parterre One Klybeckstrasse 1b Basel-Stadt Basel-Stadt 4058 Switzerland;X-APPLE-RADIUS=500;X-TITLE=Klybeckstrasse 1b:geo:7.591517,47.563839
END:VEVENT
BEGIN:VEVENT
DTSTART;TZID=Europe/Zurich:20260509T000000
DTEND;TZID=Europe/Zurich:20260509T235959
DTSTAMP:20260419T141756
CREATED:20260318T094840Z
LAST-MODIFIED:20260318T094843Z
UID:10000223-1778284800-1778371199@www.parterre-one.ch
SUMMARY:Private Event
DESCRIPTION:Das ist leider nicht euer Privatevent\, aber ihr könnt gerne einen bei uns planen! Anfragen nehmen wir jederzeit unter kultur@parterre.net oder +41 61 695 89 98 entgegen. Wir freuen uns auf euch!
URL:https://www.parterre-one.ch/event/private-event-6/
LOCATION:Parterre One\, Klybeckstrasse 1b\, Basel-Stadt\, Basel-Stadt\, 4058\, Switzerland
CATEGORIES:Private
ATTACH;FMTTYPE=image/jpeg:https://www.parterre-one.ch/wp-content/uploads/2026/03/private-event-with-logo.jpg
GEO:47.563839;7.591517
X-APPLE-STRUCTURED-LOCATION;VALUE=URI;X-ADDRESS=Parterre One Klybeckstrasse 1b Basel-Stadt Basel-Stadt 4058 Switzerland;X-APPLE-RADIUS=500;X-TITLE=Klybeckstrasse 1b:geo:7.591517,47.563839
END:VEVENT
END:VCALENDAR