BEGIN:VCALENDAR
VERSION:2.0
PRODID:-//Parterre One - ECPv6.15.20//NONSGML v1.0//EN
CALSCALE:GREGORIAN
METHOD:PUBLISH
X-WR-CALNAME:Parterre One
X-ORIGINAL-URL:https://www.parterre-one.ch
X-WR-CALDESC:Veranstaltungen für Parterre One
REFRESH-INTERVAL;VALUE=DURATION:PT1H
X-Robots-Tag:noindex
X-PUBLISHED-TTL:PT1H
BEGIN:VTIMEZONE
TZID:Europe/Zurich
BEGIN:DAYLIGHT
TZOFFSETFROM:+0100
TZOFFSETTO:+0200
TZNAME:CEST
DTSTART:20240331T010000
END:DAYLIGHT
BEGIN:STANDARD
TZOFFSETFROM:+0200
TZOFFSETTO:+0100
TZNAME:CET
DTSTART:20241027T010000
END:STANDARD
BEGIN:DAYLIGHT
TZOFFSETFROM:+0100
TZOFFSETTO:+0200
TZNAME:CEST
DTSTART:20250330T010000
END:DAYLIGHT
BEGIN:STANDARD
TZOFFSETFROM:+0200
TZOFFSETTO:+0100
TZNAME:CET
DTSTART:20251026T010000
END:STANDARD
BEGIN:DAYLIGHT
TZOFFSETFROM:+0100
TZOFFSETTO:+0200
TZNAME:CEST
DTSTART:20260329T010000
END:DAYLIGHT
BEGIN:STANDARD
TZOFFSETFROM:+0200
TZOFFSETTO:+0100
TZNAME:CET
DTSTART:20261025T010000
END:STANDARD
END:VTIMEZONE
BEGIN:VEVENT
DTSTART;TZID=Europe/Zurich:20250628T223000
DTEND;TZID=Europe/Zurich:20250628T223000
DTSTAMP:20260419T213508
CREATED:20250617T144003Z
LAST-MODIFIED:20250617T150225Z
UID:10000030-1751149800-1751149800@www.parterre-one.ch
SUMMARY: ONE HOUSE -SEASON CLOSING PARTY
DESCRIPTION:Bevor wir in die Sommerpause starten\, feiern wir noch ein letztes Mal – und zwar richtig!Erlebt eine unvergessliche Nacht mit purem House-Sound von: \n\n\n\nDJ FRED LICCILUIS CRUZCASTA & LINGER \n\n\n\nEine Nacht voller Beats\, Vibes und guter Energie – das große Finale der Saison!Im September sind wir mit vielen spannenden Neuerungen zurück.
URL:https://www.parterre-one.ch/event/one-house-season-closing-party/
LOCATION:Parterre One\, Klybeckstrasse 1b\, Basel-Stadt\, Basel-Stadt\, 4058\, Switzerland
CATEGORIES:Party
ATTACH;FMTTYPE=image/webp:https://www.parterre-one.ch/wp-content/uploads/2025/06/ONE_Kalender_Vorlage.webp
GEO:47.563839;7.591517
X-APPLE-STRUCTURED-LOCATION;VALUE=URI;X-ADDRESS=Parterre One Klybeckstrasse 1b Basel-Stadt Basel-Stadt 4058 Switzerland;X-APPLE-RADIUS=500;X-TITLE=Klybeckstrasse 1b:geo:7.591517,47.563839
END:VEVENT
END:VCALENDAR