BEGIN:VCALENDAR
VERSION:2.0
PRODID:-//Parterre One - ECPv6.15.20//NONSGML v1.0//EN
CALSCALE:GREGORIAN
METHOD:PUBLISH
X-WR-CALNAME:Parterre One
X-ORIGINAL-URL:https://www.parterre-one.ch
X-WR-CALDESC:Veranstaltungen für Parterre One
REFRESH-INTERVAL;VALUE=DURATION:PT1H
X-Robots-Tag:noindex
X-PUBLISHED-TTL:PT1H
BEGIN:VTIMEZONE
TZID:Europe/Zurich
BEGIN:DAYLIGHT
TZOFFSETFROM:+0100
TZOFFSETTO:+0200
TZNAME:CEST
DTSTART:20240331T010000
END:DAYLIGHT
BEGIN:STANDARD
TZOFFSETFROM:+0200
TZOFFSETTO:+0100
TZNAME:CET
DTSTART:20241027T010000
END:STANDARD
BEGIN:DAYLIGHT
TZOFFSETFROM:+0100
TZOFFSETTO:+0200
TZNAME:CEST
DTSTART:20250330T010000
END:DAYLIGHT
BEGIN:STANDARD
TZOFFSETFROM:+0200
TZOFFSETTO:+0100
TZNAME:CET
DTSTART:20251026T010000
END:STANDARD
BEGIN:DAYLIGHT
TZOFFSETFROM:+0100
TZOFFSETTO:+0200
TZNAME:CEST
DTSTART:20260329T010000
END:DAYLIGHT
BEGIN:STANDARD
TZOFFSETFROM:+0200
TZOFFSETTO:+0100
TZNAME:CET
DTSTART:20261025T010000
END:STANDARD
END:VTIMEZONE
BEGIN:VEVENT
DTSTART;TZID=Europe/Zurich:20250919T220000
DTEND;TZID=Europe/Zurich:20250920T040000
DTSTAMP:20260420T074006
CREATED:20250811T064503Z
LAST-MODIFIED:20250908T153217Z
UID:10000049-1758319200-1758340800@www.parterre-one.ch
SUMMARY:Beats 2 Dance
DESCRIPTION:Zum ersten Mal bringen wir euch eine Nacht voller Melodic House\, Minimal und Trance. perfekte Beats\, die dich nonstop auf die Tanzfläche ziehen. \n\n\n\nMit Musiøn\, KAI:ZEN und Marlon & Floyd am Start\, die mit melodischen Beats und jeder Menge Energie die Nacht füllen. \n\n\n\nWenn du Lust auf gute Vibes\, fette Beats und eine unvergessliche Nacht hast\, bist du hier genau richtig. Also Lautstärke aufdrehen\, Freunde schnappen und abfeiern
URL:https://www.parterre-one.ch/event/beats-2-dance/
LOCATION:Parterre One\, Klybeckstrasse 1b\, Basel-Stadt\, Basel-Stadt\, 4058\, Switzerland
CATEGORIES:Party
ATTACH;FMTTYPE=image/webp:https://www.parterre-one.ch/wp-content/uploads/2025/08/ONE_Eventkalender_Upload_Pic.webp
GEO:47.563839;7.591517
X-APPLE-STRUCTURED-LOCATION;VALUE=URI;X-ADDRESS=Parterre One Klybeckstrasse 1b Basel-Stadt Basel-Stadt 4058 Switzerland;X-APPLE-RADIUS=500;X-TITLE=Klybeckstrasse 1b:geo:7.591517,47.563839
END:VEVENT
BEGIN:VEVENT
DTSTART;TZID=Europe/Zurich:20250920T210000
DTEND;TZID=Europe/Zurich:20250921T040000
DTSTAMP:20260420T074006
CREATED:20250702T151208Z
LAST-MODIFIED:20250909T095617Z
UID:10000035-1758402000-1758427200@www.parterre-one.ch
SUMMARY:SCHWARZ.TON
DESCRIPTION:Alter ab: 18 JahrenDresscode: Black/Gothic \n\n\n\nSchwarz.Tanz am Rhein Vol. VII: Die Gothic Party mit den DJs The Crow und ThanatosDie 8te Ausgabe von Schwarz.Tanz am Rhein steht vor der Tür und verspricht eine unvergessliche Nacht voller düsterer Klänge und mitreißender Beats. Die Resident DJs The Crow und Thanatos werden die Tanzfläche mit ihrem einzigartigen Musikstil zum Beben bringen.Gothic\, Wave\, Electro\, EBM\, Dark Industrial und Medieval – das sind die Genres\, die den Soundtrack dieser außergewöhnlichen Nacht bestimmen werden. Egal ob du ein langjähriger Fan dieser Musikrichtungen bist oder einfach nur neugierig auf den dunklen und untergründigen Sound\, die Partyreihe Schwarz.Tanz am Rhein bietet für jeden etwas.Die DJs The Crow und Thanatos sind bekannt für ihre energiegeladenen Sets und ihre Fähigkeit\, das Publikum mit ihrer Musikauswahl in den Bann zu ziehen. Sie werden sicherstellen\, dass die Tanzfläche die ganze Nacht über gefüllt ist und die Gäste zu den Klängen der Nacht tanzen können.«It’s Dark\, it’s Underground\, it’s SCHWARZ.TON!» – Dieses Motto beschreibt perfekt die Atmosphäre\, die dich auf Schwarz.Tanz am Rhein Vol VII erwartet. Tauche ein in eine Welt voller mysteriöser Klänge\, pulsierender Beats und einer einzigartigen Gemeinschaft von Gleichgesinnten.Sei Teil einer unvergesslichen Nacht!******************************************************************Unser Name ist Programm! Dunkle Musik für dunkle Gestalten der Nacht.SCHWARZ.TON führt euch mit einem kunterschwarzen und abwechslungsreichen Mix aus Gothic\, Wave\, Mittelalterrock\, Electro\, EBM. u.a. durch eine dunkle musikalische Reise.******************************************************************Notre nom est déjà tout un programme! Musique sombre pour des personnes sombres.SCHWARZ.TON vous guide avec un mélange variable noir de Goth\, Wave\, Rock Médiéval\, NDH\, Electro\, EBM et plus à travers un voyage musical sombre. \n\n\n\nLes groupes de genre Goth\, les DJ de la scène créeront une atmosphère sombre et inoubliable.******************************************************************The name says it all. Dark music for the dark creatures of the night.SCHWARZ.TON will take you with a mix of the finest dark music such as Gothic\, Wave\, Medieval Rock\, NDH\, Electro\, EBM and many more on a thrilled journey. Just the right soundtrack for your dark voyage.Bands\, DJs from the active scene are willing to fulfill the gloomy atmosphere and make it an unforgettable event for you and your friends. \n\n\n\n******************************************************************
URL:https://www.parterre-one.ch/event/schwarz-ton/
LOCATION:Parterre One\, Klybeckstrasse 1b\, Basel-Stadt\, Basel-Stadt\, 4058\, Switzerland
CATEGORIES:Party
ATTACH;FMTTYPE=image/png:https://www.parterre-one.ch/wp-content/uploads/2025/07/schwarz2.png
GEO:47.563839;7.591517
X-APPLE-STRUCTURED-LOCATION;VALUE=URI;X-ADDRESS=Parterre One Klybeckstrasse 1b Basel-Stadt Basel-Stadt 4058 Switzerland;X-APPLE-RADIUS=500;X-TITLE=Klybeckstrasse 1b:geo:7.591517,47.563839
END:VEVENT
END:VCALENDAR